Workbook

Sheet Protokol 7 Teams
AT1: CZ | AU1: DE | AV1: EN
A2: =INDEX(AT5:AV5,$AJ$4) -> PROTOKOL - ČESKÝ SVAZ CYKLISTIKY | AJ2: =INDEX(AT4:AV4,$AJ$4) -> MIMO OBLAST TISKU
AJ3: =INDEX(AT3:AV3,$AJ$4) -> Prosím pro jazyk zadejte číslo | AM3: doba hry | AN3: 5 | AT3: Prosím pro jazyk zadejte číslo | AU3: Bitte die Nr. der gewünschten Sprache eingeben | AV3: Please for language enter number
B4: =INDEX(AT6:AV6,$AJ$4) -> o soutěži v kolové: | C4: ELITE - ŠKODA EXTRALIGA - 2. kolo | AJ4: 1 | AN4: 6 | AT4: MIMO OBLAST TISKU | AU4: DANEBEN DRUCKFLÄCHE | AV4: EXCEPT AREA PRINTING
B5: =INDEX(AT7:AV7,$AJ$4) -> konané dne: | C5: 45760 | O5: =INDEX(AT8:AV8,$AJ$4) -> v | Q5: Brno | AJ5: CZ = 1 | AN5: 7 | AT5: PROTOKOL - ČESKÝ SVAZ CYKLISTIKY | AU5: ERGEBNISSE - TSCHECHISCH VERBAND RADSPORT | AV5: CZECH CYCLING FEDERATION
B6: =INDEX(AT9:AV9,$AJ$4) -> tělovýchovným spolkem - klubem: | K6: TJ Favorit Brno | AJ6: DE = 2 | AM6: prázdné | AT6: o soutěži v kolové: | AU6: Veranstaltung: | AV6: Tourney-cycle-ball:
B7: =INDEX(AT10:AV10,$AJ$4) -> hrací plocha: | C7: 11 | E7: x | F7: 14 | H7: m | Q7: =INDEX(AT11:AV11,$AJ$4) -> doba hry: | R7: 2 | T7: x | U7: 7 | W7: minut | AJ7: EN = 3 | AM7: tělovýchovným spolkem - klubem: | AT7: konané dne: | AU7: Datum: | AV7: Date:
AM8: prázdné | AT8: v | AU8: in | AV8: in
A9: =INDEX(AT12:AV12,$AJ$4) -> Startující | AN9: Lokomotiva Liberec | AT9: tělovýchovným spolkem - klubem: | AU9: Halle - Sportklub: | AV9: Sports club:
AN10: Mlékárna Olešnice cykloklub Svitávka | AT10: hrací plocha: | AU10: Spielfläche: | AV10: Size of the field:
B11: =INDEX(AT13:AV13,$AJ$4) -> Těl. spolek - klub | F11: =INDEX(AT14:AV14,$AJ$4) -> JMÉNO | J11: =INDEX(BB12:BC12,$AJ$4) -> 0 | N11: =INDEX(BF12:BG12,$AJ$4) -> 0 | R11: =INDEX(AT15:AV15,$AJ$4) -> UCI-ID | W11: =INDEX(AT14:AV14,$AJ$4) -> JMÉNO | AA11: =INDEX(BS12:BT12,$AJ$4) -> 0 | AE11: =INDEX(BW12:BX12,$AJ$4) -> 0 | AG11: =INDEX(AT15:AV15,$AJ$4) -> UCI-ID | AN11: Sálová cyklistika Svitávka | AT11: doba hry: | AU11: Spiel Zeit: | AV11: Match times:
A12: 1 | B12: =IF('Pořadí zápasů 7 Teams_Spielplan'!Q6=0,"",'Pořadí zápasů 7 Teams_Spielplan'!Q6) -> Sokol Zlín-Prštné 1 | F12: Adam Radek | R12: 10046411349 | W12: Horák Tomáš | AG12: 10092746835 | AJ12: Zkontrolujte sestavy družstev | AN12: SK Chodsko | AT12: Startující | AU12: Teilnahme | AV12: Team members
A13: 2 | B13: =IF('Pořadí zápasů 7 Teams_Spielplan'!Q7=0,"",'Pořadí zápasů 7 Teams_Spielplan'!Q7) -> Sokol Zlín-Prštné 2 | F13: Baxa Jáchym | R13: 10047314762 | W13: Baxa Vojtěch | AG13: 10047215843 | AN13: SK SC PRIMA Nezamyslice | AT13: Těl. spolek - klub | AU13: Verein | AV13: Sports club
A14: 3 | B14: =IF('Pořadí zápasů 7 Teams_Spielplan'!Q8=0,"",'Pořadí zápasů 7 Teams_Spielplan'!Q8) -> MO Svitávka | F14: Hrdlička Jiří ml. | R14: 10047129149 | W14: Staněk Roman | AG14: 10014336479 | AN14: TJ Favorit Brno | AT14: JMÉNO | AU14: Spieler | AV14: Name
A15: 4 | B15: =IF('Pořadí zápasů 7 Teams_Spielplan'!Q9=0,"",'Pořadí zápasů 7 Teams_Spielplan'!Q9) -> SC Svitávka | F15: Hrdlička Jiří | R15: 10012809539 | W15: Kripner Jan | AG15: 10014409635 | AN15: TJ MILO Olomouc | AT15: UCI-ID | AU15: UCI-ID | AV15: UCI-ID
A16: 5 | B16: =IF('Pořadí zápasů 7 Teams_Spielplan'!Q10=0,"",'Pořadí zápasů 7 Teams_Spielplan'!Q10) -> Favorit Brno | F16: Písek Ludvík | R16: 10015165427 | W16: Zvolánek Robert | AG16: 10014280606 | AN16: TJ Pankrác Praha | AT16: Rozhodčí | AU16: Kommissäre | AV16: Commissaire:
A17: 6 | B17: =IF('Pořadí zápasů 7 Teams_Spielplan'!Q11=0,"",'Pořadí zápasů 7 Teams_Spielplan'!Q11) -> Sokol Šitbořice | F17: Drabálek Martin | R17: 10047957184 | W17: Havlíček Jan | AG17: 10015504422 | AN17: TJ Sokol Šitbořice | AT17: Hlavní rozhodčí: | AU17: Chief-Kommissär: | AV17: Chief commissaire:
A18: 7 | B18: =IF('Pořadí zápasů 7 Teams_Spielplan'!Q12=0,"",'Pořadí zápasů 7 Teams_Spielplan'!Q12) -> Prima Nezamyslice | F18: Přikryl Martin | R18: 10047505429 | W18: Přikryl Petr | AG18: 10047507348 | AN18: TJ Sokol Zlín-Prštné | AT18: Časoměřič: | AU18: Zeitnehmer: | AV18: Time-keeper :
AN19: TJ Spartak Chrastava
AN20: TJ Spartak Přerov
A21: =INDEX(AT16:AV16,$AJ$4) -> Rozhodčí | AN21: TJ START Plzeň | AT21: Zapisovatel: | AU21: Schriftführer: | AV21: Secretary:
AT22: Rozhodčí: | AU22: Kommissäre: | AV22: Commissaire:
B23: =INDEX(AT17:AV17,$AJ$4) -> Hlavní rozhodčí: | C23: Struhař Martin | U23: =INDEX(AT22:AV22,$AJ$4) -> Rozhodčí: | AT23: Výsledky | AU23: Resultate | AV23: Results
B24: =INDEX(AT18:AV18,$AJ$4) -> Časoměřič: | AT24: Body | AU24: Punk. | AV24: Poitns
B25: =INDEX(AT21:AV21,$AJ$4) -> Zapisovatel: | AT25: Branky | AU25: Tore | AV25: Score
AT26: Místo | AU26: Rang | AV26: Ranking
AT27: Různé | AU27: Andere | AV27: Various
A28: =INDEX(AT23:AV23,$AJ$4) -> Výsledky | AT28: Kontrola: | AU28: Kontrolle: | AV28: Control:
C29: ZLN 1 | F29: ZLN 2 | I29: MO | L29: SC | O29: FAV | R29: ŠIT | U29: NEZ | AT29: Za pořadatele: | AU29: Veranstalter: | AV29: Organizer:
B30: =INDEX(AT13:AV13,$AJ$4) -> Těl. spolek - klub | C30: 1 | F30: 2 | I30: 3 | L30: 4 | O30: 5 | R30: 6 | U30: 7 | X30: 8 | AA30: 9 | AD30: =INDEX(AT24:AV24,$AJ$4) -> Body | AE30: =INDEX(AT25:AV25,$AJ$4) -> Branky | AH30: =INDEX(AT26:AV26,$AJ$4) -> Místo | AJ30: Buňky obsahují vzorce | AT30: Konečné pořadí | AU30: Endstand | AV30: Final rankings
A31: 1 | B31: =IF(B12=0,"",B12) -> Sokol Zlín-Prštné 1 | F31: =IF('Pořadí zápasů 7 Teams_Spielplan'!$L6="","",'Pořadí zápasů 7 Teams_Spielplan'!$L6) | G31: : | H31: =IF('Pořadí zápasů 7 Teams_Spielplan'!$N6="","",'Pořadí zápasů 7 Teams_Spielplan'!$N6) | I31: =IF('Pořadí zápasů 7 Teams_Spielplan'!$L13="","",'Pořadí zápasů 7 Teams_Spielplan'!$L13) | J31: : | K31: =IF('Pořadí zápasů 7 Teams_Spielplan'!$N13="","",'Pořadí zápasů 7 Teams_Spielplan'!$N13) | L31: =IF('Pořadí zápasů 7 Teams_Spielplan'!$L23="","",'Pořadí zápasů 7 Teams_Spielplan'!$L23) | M31: : | N31: =IF('Pořadí zápasů 7 Teams_Spielplan'!$N23="","",'Pořadí zápasů 7 Teams_Spielplan'!$N23) | O31: =IF('Pořadí zápasů 7 Teams_Spielplan'!$L20="","",'Pořadí zápasů 7 Teams_Spielplan'!$L20) | P31: : | Q31: =IF('Pořadí zápasů 7 Teams_Spielplan'!$N20="","",'Pořadí zápasů 7 Teams_Spielplan'!$N20) | R31: =IF('Pořadí zápasů 7 Teams_Spielplan'!$L16="","",'Pořadí zápasů 7 Teams_Spielplan'!$L16) | S31: : | T31: =IF('Pořadí zápasů 7 Teams_Spielplan'!$N16="","",'Pořadí zápasů 7 Teams_Spielplan'!$N16) | U31: =IF('Pořadí zápasů 7 Teams_Spielplan'!$L9="","",'Pořadí zápasů 7 Teams_Spielplan'!$L9) | V31: : | W31: =IF('Pořadí zápasů 7 Teams_Spielplan'!$N9="","",'Pořadí zápasů 7 Teams_Spielplan'!$N9) | Y31: : | AB31: : | AD31: =IF(F31="","",IF(AND(C31="",E31=""),0,IF(C31>E31,3,IF(C31=E31,1,0)))+IF(AND(F31="",H31=""),0,IF(F31>H31,3,IF(F31=H31,1,0)))+IF(AND(I31="",K31=""),0,IF(I31>K31,3,IF(I31=K31,1,0)))+IF(AND(L31="",N31=""),0,IF(L31>N31,3,IF(L31=N31,1,0)))+IF(AND(O31="",Q31=""),0,IF(O31>Q31,3,IF(O31=Q31,1,0)))+IF(AND(R31="",T31=""),0,IF(R31>T31,3,IF(R31=T31,1,0)))+IF(AND(U31="",W31=""),0,IF(U31>W31,3,IF(U31=W31,1,0)))+IF(AND(X31="",Z31=""),0,IF(X31>Z31,3,IF(X31=Z31,1,0)))+IF(AND(AA31="",AC31=""),0,IF(AA31>AC31,3,IF(AA31=AC31,1,0)))) | AE31: =IF(F31="","",F31+I31+L31+O31+R31+U31+X31+AA31) | AF31: : | AG31: =IF(H31="","",H31+K31+N31+Q31+T31+W31+Z31+AC31) | AH31: =IF(F31="","",RANK(AD31,$AD$31:$AD$37)) | AI31: =IF(F31="","",AE31-AG31) | AT31: Poř | AU31: Rang | AV31: R.
A32: 2 | B32: =IF(B13=0,"",B13) -> Sokol Zlín-Prštné 2 | C32: =IF(H31="","",H31) | D32: : | E32: =IF(F31="","",F31) | G32: : | I32: =IF('Pořadí zápasů 7 Teams_Spielplan'!$L10="","",'Pořadí zápasů 7 Teams_Spielplan'!$L10) | J32: : | K32: =IF('Pořadí zápasů 7 Teams_Spielplan'!$N10="","",'Pořadí zápasů 7 Teams_Spielplan'!$N10) | L32: =IF('Pořadí zápasů 7 Teams_Spielplan'!$L26="","",'Pořadí zápasů 7 Teams_Spielplan'!$L26) | M32: : | N32: =IF('Pořadí zápasů 7 Teams_Spielplan'!$N26="","",'Pořadí zápasů 7 Teams_Spielplan'!$N26) | O32: =IF('Pořadí zápasů 7 Teams_Spielplan'!$L14="","",'Pořadí zápasů 7 Teams_Spielplan'!$L14) | P32: : | Q32: =IF('Pořadí zápasů 7 Teams_Spielplan'!$N14="","",'Pořadí zápasů 7 Teams_Spielplan'!$N14) | R32: =IF('Pořadí zápasů 7 Teams_Spielplan'!$L22="","",'Pořadí zápasů 7 Teams_Spielplan'!$L22) | S32: : | T32: =IF('Pořadí zápasů 7 Teams_Spielplan'!$N22="","",'Pořadí zápasů 7 Teams_Spielplan'!$N22) | U32: =IF('Pořadí zápasů 7 Teams_Spielplan'!$L18="","",'Pořadí zápasů 7 Teams_Spielplan'!$L18) | V32: : | W32: =IF('Pořadí zápasů 7 Teams_Spielplan'!$N18="","",'Pořadí zápasů 7 Teams_Spielplan'!$N18) | Y32: : | AB32: : | AD32: =IF(C32="","",IF(AND(C32="",E32=""),0,IF(C32>E32,3,IF(C32=E32,1,0)))+IF(AND(F32="",H32=""),0,IF(F32>H32,3,IF(F32=H32,1,0)))+IF(AND(I32="",K32=""),0,IF(I32>K32,3,IF(I32=K32,1,0)))+IF(AND(L32="",N32=""),0,IF(L32>N32,3,IF(L32=N32,1,0)))+IF(AND(O32="",Q32=""),0,IF(O32>Q32,3,IF(O32=Q32,1,0)))+IF(AND(R32="",T32=""),0,IF(R32>T32,3,IF(R32=T32,1,0)))+IF(AND(U32="",W32=""),0,IF(U32>W32,3,IF(U32=W32,1,0)))+IF(AND(X32="",Z32=""),0,IF(X32>Z32,3,IF(X32=Z32,1,0)))+IF(AND(AA32="",AC32=""),0,IF(AA32>AC32,3,IF(AA32=AC32,1,0)))) | AE32: =IF(C32="","",H31+I32+L32+O32+R32+U32+X32+AA32) | AF32: : | AG32: =IF(E32="","",F31+K32+N32+Q32+T32+W32+Z32+AC32) | AH32: =IF(C32="","",RANK(AD32,$AD$31:$AD$37)) | AI32: =IF(C32="","",AE32-AG32) | AJ32: vyplňujte pouze pravou horní část tabulky | AT32: Těl. spolek - klub | AU32: Verein | AV32: Sports club
A33: 3 | B33: =IF(B14=0,"",B14) -> MO Svitávka | C33: =IF(K31="","",K31) | D33: : | E33: =IF(I31="","",I31) | F33: =IF(K32="","",K32) | G33: : | H33: =IF(I32="","",I32) | J33: : | L33: =IF('Pořadí zápasů 7 Teams_Spielplan'!$L7="","",'Pořadí zápasů 7 Teams_Spielplan'!$L7) | M33: : | N33: =IF('Pořadí zápasů 7 Teams_Spielplan'!$N7="","",'Pořadí zápasů 7 Teams_Spielplan'!$N7) | O33: =IF('Pořadí zápasů 7 Teams_Spielplan'!$L17="","",'Pořadí zápasů 7 Teams_Spielplan'!$L17) | P33: : | Q33: =IF('Pořadí zápasů 7 Teams_Spielplan'!$N17="","",'Pořadí zápasů 7 Teams_Spielplan'!$N17) | R33: =IF('Pořadí zápasů 7 Teams_Spielplan'!$L25="","",'Pořadí zápasů 7 Teams_Spielplan'!$L25) | S33: : | T33: =IF('Pořadí zápasů 7 Teams_Spielplan'!$N25="","",'Pořadí zápasů 7 Teams_Spielplan'!$N25) | U33: =IF('Pořadí zápasů 7 Teams_Spielplan'!$L21="","",'Pořadí zápasů 7 Teams_Spielplan'!$L21) | V33: : | W33: =IF('Pořadí zápasů 7 Teams_Spielplan'!$N21="","",'Pořadí zápasů 7 Teams_Spielplan'!$N21) | Y33: : | AB33: : | AD33: =IF(C33="","",IF(AND(C33="",E33=""),0,IF(C33>E33,3,IF(C33=E33,1,0)))+IF(AND(F33="",H33=""),0,IF(F33>H33,3,IF(F33=H33,1,0)))+IF(AND(I33="",K33=""),0,IF(I33>K33,3,IF(I33=K33,1,0)))+IF(AND(L33="",N33=""),0,IF(L33>N33,3,IF(L33=N33,1,0)))+IF(AND(O33="",Q33=""),0,IF(O33>Q33,3,IF(O33=Q33,1,0)))+IF(AND(R33="",T33=""),0,IF(R33>T33,3,IF(R33=T33,1,0)))+IF(AND(U33="",W33=""),0,IF(U33>W33,3,IF(U33=W33,1,0)))+IF(AND(X33="",Z33=""),0,IF(X33>Z33,3,IF(X33=Z33,1,0)))+IF(AND(AA33="",AC33=""),0,IF(AA33>AC33,3,IF(AA33=AC33,1,0)))) | AE33: =IF(C33="","",K31+K32+L33+O33+R33+U33+X33+AA33) | AF33: : | AG33: =IF(E32="","",I31+I32+N33+Q33+T33+W33+Z33+AC33) | AH33: =IF(C33="","",RANK(AD33,$AD$31:$AD$37)) | AI33: =IF(C33="","",AE33-AG33) | AJ33: NEBO se výsledky načtou z listu "Pořadí…" | AT33: Jména | AU33: Namen | AV33: Names
A34: 4 | B34: =IF(B15=0,"",B15) -> SC Svitávka | C34: =IF(N31="","",N31) | D34: : | E34: =IF(L31="","",L31) | F34: =IF(N32="","",N32) | G34: : | H34: =IF(L32="","",L32) | I34: =IF(N33="","",N33) | J34: : | K34: =IF(L33="","",L33) | M34: : | O34: =IF('Pořadí zápasů 7 Teams_Spielplan'!$L11="","",'Pořadí zápasů 7 Teams_Spielplan'!$L11) | P34: : | Q34: =IF('Pořadí zápasů 7 Teams_Spielplan'!$N11="","",'Pořadí zápasů 7 Teams_Spielplan'!$N11) | R34: =IF('Pořadí zápasů 7 Teams_Spielplan'!$L19="","",'Pořadí zápasů 7 Teams_Spielplan'!$L19) | S34: : | T34: =IF('Pořadí zápasů 7 Teams_Spielplan'!$N19="","",'Pořadí zápasů 7 Teams_Spielplan'!$N19) | U34: =IF('Pořadí zápasů 7 Teams_Spielplan'!$L15="","",'Pořadí zápasů 7 Teams_Spielplan'!$L15) | V34: : | W34: =IF('Pořadí zápasů 7 Teams_Spielplan'!$N15="","",'Pořadí zápasů 7 Teams_Spielplan'!$N15) | Y34: : | AB34: : | AD34: =IF(C34="","",IF(AND(C34="",E34=""),0,IF(C34>E34,3,IF(C34=E34,1,0)))+IF(AND(F34="",H34=""),0,IF(F34>H34,3,IF(F34=H34,1,0)))+IF(AND(I34="",K34=""),0,IF(I34>K34,3,IF(I34=K34,1,0)))+IF(AND(L34="",N34=""),0,IF(L34>N34,3,IF(L34=N34,1,0)))+IF(AND(O34="",Q34=""),0,IF(O34>Q34,3,IF(O34=Q34,1,0)))+IF(AND(R34="",T34=""),0,IF(R34>T34,3,IF(R34=T34,1,0)))+IF(AND(U34="",W34=""),0,IF(U34>W34,3,IF(U34=W34,1,0)))+IF(AND(X34="",Z34=""),0,IF(X34>Z34,3,IF(X34=Z34,1,0)))+IF(AND(AA34="",AC34=""),0,IF(AA34>AC34,3,IF(AA34=AC34,1,0)))) | AE34: =IF(C34="","",N31+N32+N33+O34+R34+U34+X34+AA34) | AF34: : | AG34: =IF(E34="","",L31+L32+L33+Q34+T34+W34+Z34+AC34) | AH34: =IF(C34="","",RANK(AD34,$AD$31:$AD$37)) | AI34: =IF(C34="","",AE34-AG34) | AT34: Počet | AU34: Sp. | AV34: Count
A35: 5 | B35: =IF(B16=0,"",B16) -> Favorit Brno | C35: =IF(Q31="","",Q31) | D35: : | E35: =IF(O31="","",O31) | F35: =IF(Q32="","",Q32) | G35: : | H35: =IF(O32="","",O32) | I35: =IF(Q33="","",Q33) | J35: : | K35: =IF(O33="","",O33) | L35: =IF(Q34="","",Q34) | M35: : | N35: =IF(O34="","",O34) | P35: : | R35: =IF('Pořadí zápasů 7 Teams_Spielplan'!$L8="","",'Pořadí zápasů 7 Teams_Spielplan'!$L8) | S35: : | T35: =IF('Pořadí zápasů 7 Teams_Spielplan'!$N8="","",'Pořadí zápasů 7 Teams_Spielplan'!$N8) | U35: =IF('Pořadí zápasů 7 Teams_Spielplan'!$L24="","",'Pořadí zápasů 7 Teams_Spielplan'!$L24) | V35: : | W35: =IF('Pořadí zápasů 7 Teams_Spielplan'!$N24="","",'Pořadí zápasů 7 Teams_Spielplan'!$N24) | Y35: : | AB35: : | AD35: =IF(C35="","",IF(AND(C35="",E35=""),0,IF(C35>E35,3,IF(C35=E35,1,0)))+IF(AND(F35="",H35=""),0,IF(F35>H35,3,IF(F35=H35,1,0)))+IF(AND(I35="",K35=""),0,IF(I35>K35,3,IF(I35=K35,1,0)))+IF(AND(L35="",N35=""),0,IF(L35>N35,3,IF(L35=N35,1,0)))+IF(AND(O35="",Q35=""),0,IF(O35>Q35,3,IF(O35=Q35,1,0)))+IF(AND(R35="",T35=""),0,IF(R35>T35,3,IF(R35=T35,1,0)))+IF(AND(U35="",W35=""),0,IF(U35>W35,3,IF(U35=W35,1,0)))+IF(AND(X35="",Z35=""),0,IF(X35>Z35,3,IF(X35=Z35,1,0)))+IF(AND(AA35="",AC35=""),0,IF(AA35>AC35,3,IF(AA35=AC35,1,0)))) | AE35: =IF(C35="","",Q31+Q32+Q33+Q34+R35+U35+X35+AA35) | AF35: : | AG35: =IF(E35="","",O31+O32+O33+O34+T35+W35+Z35+AC35) | AH35: =IF(C35="","",RANK(AD35,$AD$31:$AD$37)) | AI35: =IF(C35="","",AE35-AG35) | AJ35: ČERVENÁ BUŇKA JE PŘI ROVNOSTI BODŮ
A36: 6 | B36: =IF(B17=0,"",B17) -> Sokol Šitbořice | C36: =IF(T31="","",T31) | D36: : | E36: =IF(R31="","",R31) | F36: =IF(T32="","",T32) | G36: : | H36: =IF(R32="","",R32) | I36: =IF(T33="","",T33) | J36: : | K36: =IF(R33="","",R33) | L36: =IF(T34="","",T34) | M36: : | N36: =IF(R34="","",R34) | O36: =IF(T35="","",T35) | P36: : | Q36: =IF(R35="","",R35) | S36: : | U36: =IF('Pořadí zápasů 7 Teams_Spielplan'!$L12="","",'Pořadí zápasů 7 Teams_Spielplan'!$L12) | V36: : | W36: =IF('Pořadí zápasů 7 Teams_Spielplan'!$N12="","",'Pořadí zápasů 7 Teams_Spielplan'!$N12) | Y36: : | AB36: : | AD36: =IF(C36="","",IF(AND(C36="",E36=""),0,IF(C36>E36,3,IF(C36=E36,1,0)))+IF(AND(F36="",H36=""),0,IF(F36>H36,3,IF(F36=H36,1,0)))+IF(AND(I36="",K36=""),0,IF(I36>K36,3,IF(I36=K36,1,0)))+IF(AND(L36="",N36=""),0,IF(L36>N36,3,IF(L36=N36,1,0)))+IF(AND(O36="",Q36=""),0,IF(O36>Q36,3,IF(O36=Q36,1,0)))+IF(AND(R36="",T36=""),0,IF(R36>T36,3,IF(R36=T36,1,0)))+IF(AND(U36="",W36=""),0,IF(U36>W36,3,IF(U36=W36,1,0)))+IF(AND(X36="",Z36=""),0,IF(X36>Z36,3,IF(X36=Z36,1,0)))+IF(AND(AA36="",AC36=""),0,IF(AA36>AC36,3,IF(AA36=AC36,1,0)))) | AE36: =IF(C36="","",T31+T32+T33+T34+T35+U36+X36+AA36) | AF36: : | AG36: =IF(E36="","",R31+R32+R33+R34+R35+W36+Z36+AC36) | AH36: =IF(C36="","",RANK(AD36,$AD$31:$AD$37)) | AI36: =IF(C36="","",AE36-AG36) | AJ36: "Horší místo" přepište dle skóre a více vstř. branek
A37: 7 | B37: =IF(B18=0,"",B18) -> Prima Nezamyslice | C37: =IF(W31="","",W31) | D37: : | E37: =IF(U31="","",U31) | F37: =IF(W32="","",W32) | G37: : | H37: =IF(U32="","",U32) | I37: =IF(W33="","",W33) | J37: : | K37: =IF(U33="","",U33) | L37: =IF(W34="","",W34) | M37: : | N37: =IF(U34="","",U34) | O37: =IF(W35="","",W35) | P37: : | Q37: =IF(U35="","",U35) | R37: =IF(W36="","",W36) | S37: : | T37: =IF(U36="","",U36) | V37: : | Y37: : | AB37: : | AD37: =IF(C37="","",IF(AND(C37="",E37=""),0,IF(C37>E37,3,IF(C37=E37,1,0)))+IF(AND(F37="",H37=""),0,IF(F37>H37,3,IF(F37=H37,1,0)))+IF(AND(I37="",K37=""),0,IF(I37>K37,3,IF(I37=K37,1,0)))+IF(AND(L37="",N37=""),0,IF(L37>N37,3,IF(L37=N37,1,0)))+IF(AND(O37="",Q37=""),0,IF(O37>Q37,3,IF(O37=Q37,1,0)))+IF(AND(R37="",T37=""),0,IF(R37>T37,3,IF(R37=T37,1,0)))+IF(AND(U37="",W37=""),0,IF(U37>W37,3,IF(U37=W37,1,0)))+IF(AND(X37="",Z37=""),0,IF(X37>Z37,3,IF(X37=Z37,1,0)))+IF(AND(AA37="",AC37=""),0,IF(AA37>AC37,3,IF(AA37=AC37,1,0)))) | AE37: =IF(C37="","",W31+W32+W33+W34+W35+W36+X37+AA37) | AF37: : | AG37: =IF(E37="","",U31+U32+U33+U34+U35+U36+Z37+AC37) | AH37: =IF(C37="","",RANK(AD37,$AD$31:$AD$37)) | AI37: =IF(C37="","",AE37-AG37) | AJ37: nebo podle výsledku vzájemného utkání
AT38: Výhry | AU38: S | AV38: Win
AC39: =INDEX(AT28:AV28,$AJ$4) -> Kontrola: | AD39: =IF(AE31="","",SUM(AD31:AD37)) | AE39: =IF(AE31="","",SUM(AE31:AE38)) | AF39: : | AG39: =IF(AG31="","",SUM(AG31:AG38)) | AI39: =IF(AI31="","",SUM(AI31:AI38)) | AT39: Rem. | AU39: U | AV39: Draw
A40: =INDEX(AT27:AV27,$AJ$4) -> Různé | AT40: Prohry | AU40: N | AV40: Loss
...

Sheet Pořadí zápasů 7 Teams_Spielplan
AC1: CZ | AD1: DE | AE1: EN
A2: =INDEX(AC6:AE6,$P$2) -> Pořadí zápasů - 7 družstev | I2: Date: 13.4.2025 | L2: Kat: ELITE E-Liga-2.k. | P2: ='Protokol 7 Teams'!AJ4 -> 1
F3: upřesní hl. rozhodčí
A4: =INDEX(AC7:AE7,$P$2) -> Č. | C4: =INDEX(AC8:AE8,$P$2) -> 1. družstvo | E4: =INDEX(AC9:AE9,$P$2) -> 2. družstvo | F4: =INDEX(AC10:AE10,$P$2) -> Rozhodčí | G4: =INDEX(AC11:AE11,$P$2) -> Branky poločasů | I4: =INDEX(AC14:AE14,$P$2) -> Poločas | L4: =INDEX(AC15:AE15,$P$2) -> Výsledek | P4: =INDEX(AC16:AE16,$P$2) -> MIMO OBLAST TISKU | S4: =INDEX(AC18:AE18,$P$2) -> Kontrola počtu zápasů | AC4: Prosím pro jazyk zadejte číslo v buňce $L$2 (CZ=1, D=2, EN=3 ) | AD4: Bitte die Nr. der gewünschten $L$2 eingeben (CZ=1,D=2,EN=3) | AE4: Please for language enter number $L$2 (CZ=1,D=2,EN=3)
G5: =INDEX(AC12:AE12,$P$2) -> 1.druž. | H5: =INDEX(AC13:AE13,$P$2) -> 2.druž. | P5: =INDEX(AC17:AE17,$P$2) -> Nasazení družstev | U5: Výhra | V5: Remíza | W5: Prohra | X5: Výhra | Y5: Výhra | Z5: Prohra | AA5: Prohra
A6: 1. | C6: =Q6 -> Sokol Zlín-Prštné 1 | D6: : | E6: =Q7 -> Sokol Zlín-Prštné 2 | G6: ------------ | H6: ----------- | J6: : | M6: : | P6: 1 | Q6: Sokol Zlín-Prštné 1 | S6: =COUNTIF($C$6:E27,Q6) -> 6 | U6: =COUNTIFS($X$6:$Y$27,Q6) -> 0 | V6: =S6-U6-W6 -> 6 | W6: =COUNTIFS($Z$6:$AA$27,Q6) -> 0 | X6: =IF(L6>N6,C6,"") | Y6: =IF(L6<N6,E6,"") | Z6: =IF(L6<N6,C6,"") | AA6: =IF(L6>N6,E6,"") | AC6: Pořadí zápasů - 7 družstev | AD6: Spielplan - 7 Teams | AE6: Sequence matchs - 7 teams
A7: 2. | C7: =Q8 -> MO Svitávka | D7: : | E7: =Q9 -> SC Svitávka | G7: ------------ | H7: ----------- | J7: : | M7: : | P7: 2 | Q7: Sokol Zlín-Prštné 2 | S7: =COUNTIF($C$6:E27,Q7) -> 6 | U7: =COUNTIFS($X$6:$Y$27,Q7) -> 0 | V7: =S7-U7-W7 -> 6 | W7: =COUNTIFS($Z$6:$AA$27,Q7) -> 0 | X7: =IF(L7>N7,C7,"") | Y7: =IF(L7<N7,E7,"") | Z7: =IF(L7<N7,C7,"") | AA7: =IF(L7>N7,E7,"") | AC7: Č. | AD7: Nr. | AE7: No.
A8: 3. | C8: =Q10 -> Favorit Brno | D8: : | E8: =Q11 -> Sokol Šitbořice | G8: ------------ | H8: ----------- | J8: : | M8: : | P8: 3 | Q8: MO Svitávka | S8: =COUNTIF($C$6:E27,Q8) -> 6 | U8: =COUNTIFS($X$6:$Y$27,Q8) -> 0 | V8: =S8-U8-W8 -> 6 | W8: =COUNTIFS($Z$6:$AA$27,Q8) -> 0 | X8: =IF(L8>N8,C8,"") | Y8: =IF(L8<N8,E8,"") | Z8: =IF(L8<N8,C8,"") | AA8: =IF(L8>N8,E8,"") | AC8: 1. družstvo | AD8: 1. Manschaft | AE8: 1. Team
A9: 4. | C9: =Q6 -> Sokol Zlín-Prštné 1 | D9: : | E9: =Q12 -> Prima Nezamyslice | G9: ------------ | H9: ----------- | J9: : | M9: : | P9: 4 | Q9: SC Svitávka | S9: =COUNTIF($C$6:E27,Q9) -> 6 | U9: =COUNTIFS($X$6:$Y$27,Q9) -> 0 | V9: =S9-U9-W9 -> 6 | W9: =COUNTIFS($Z$6:$AA$27,Q9) -> 0 | X9: =IF(L9>N9,C9,"") | Y9: =IF(L9<N9,E9,"") | Z9: =IF(L9<N9,C9,"") | AA9: =IF(L9>N9,E9,"") | AC9: 2. družstvo | AD9: 2. Manschaft | AE9: 2. Team
A10: 5. | C10: =Q7 -> Sokol Zlín-Prštné 2 | D10: : | E10: =Q8 -> MO Svitávka | G10: ------------ | H10: ----------- | J10: : | M10: : | P10: 5 | Q10: Favorit Brno | S10: =COUNTIF($C$6:E32,Q10) -> 6 | U10: =COUNTIFS($X$6:$Y$27,Q10) -> 0 | V10: =S10-U10-W10 -> 6 | W10: =COUNTIFS($Z$6:$AA$27,Q10) -> 0 | X10: =IF(L10>N10,C10,"") | Y10: =IF(L10<N10,E10,"") | Z10: =IF(L10<N10,C10,"") | AA10: =IF(L10>N10,E10,"") | AC10: Rozhodčí | AD10: Kommissäre | AE10: Commissaire
A11: 6. | C11: =Q9 -> SC Svitávka | D11: : | E11: =Q10 -> Favorit Brno | G11: ------------ | H11: ----------- | J11: : | M11: : | P11: 6 | Q11: Sokol Šitbořice | S11: =COUNTIF($C$6:E33,Q11) -> 6 | U11: =COUNTIFS($X$6:$Y$27,Q11) -> 0 | V11: =S11-U11-W11 -> 6 | W11: =COUNTIFS($Z$6:$AA$27,Q11) -> 0 | X11: =IF(L11>N11,C11,"") | Y11: =IF(L11<N11,E11,"") | Z11: =IF(L11<N11,C11,"") | AA11: =IF(L11>N11,E11,"") | AC11: Branky poločasů | AD11: Tore-Halbzeit | AE11: Score half-times
A12: 7. | C12: =Q11 -> Sokol Šitbořice | D12: : | E12: =Q12 -> Prima Nezamyslice | G12: ------------ | H12: ----------- | J12: : | M12: : | P12: 7 | Q12: Prima Nezamyslice | S12: =COUNTIF($C$6:E34,Q12) -> 6 | U12: =COUNTIFS($X$6:$Y$27,Q12) -> 0 | V12: =S12-U12-W12 -> 6 | W12: =COUNTIFS($Z$6:$AA$27,Q12) -> 0 | X12: =IF(L12>N12,C12,"") | Y12: =IF(L12<N12,E12,"") | Z12: =IF(L12<N12,C12,"") | AA12: =IF(L12>N12,E12,"") | AC12: 1.druž. | AD12: 1. Man. | AE12: 1.Team
A13: 8. | C13: =Q6 -> Sokol Zlín-Prštné 1 | D13: : | E13: =Q8 -> MO Svitávka | G13: ------------ | H13: ----------- | J13: : | M13: : | X13: =IF(L13>N13,C13,"") | Y13: =IF(L13<N13,E13,"") | Z13: =IF(L13<N13,C13,"") | AA13: =IF(L13>N13,E13,"") | AC13: 2.druž. | AD13: 2. Man. | AE13: 2.Team
A14: 9. | C14: =Q7 -> Sokol Zlín-Prštné 2 | D14: : | E14: =Q10 -> Favorit Brno | G14: ------------ | H14: ----------- | J14: : | M14: : | Q14: MO Svitávka | S14: 1. místo v MČR - Mistr ČR 2024 | X14: =IF(L14>N14,C14,"") | Y14: =IF(L14<N14,E14,"") | Z14: =IF(L14<N14,C14,"") | AA14: =IF(L14>N14,E14,"") | AC14: Poločas | AD14: Halbzeit | AE14: Half-times
A15: 10. | C15: =Q9 -> SC Svitávka | D15: : | E15: =Q12 -> Prima Nezamyslice | G15: ------------ | H15: ----------- | J15: : | M15: : | Q15: Sokol Zlín-Prštné 1 | S15: 2. místo v MČR 2024 | X15: =IF(L15>N15,C15,"") | Y15: =IF(L15<N15,E15,"") | Z15: =IF(L15<N15,C15,"") | AA15: =IF(L15>N15,E15,"") | AC15: Výsledek | AD15: Resultate | AE15: Results
A16: 11. | C16: =Q6 -> Sokol Zlín-Prštné 1 | D16: : | E16: =Q11 -> Sokol Šitbořice | G16: ------------ | H16: ----------- | J16: : | M16: : | Q16: Favorit Brno | S16: 3. místo v MČR 2024 | X16: =IF(L16>N16,C16,"") | Y16: =IF(L16<N16,E16,"") | Z16: =IF(L16<N16,C16,"") | AA16: =IF(L16>N16,E16,"") | AC16: MIMO OBLAST TISKU | AD16: DANEBEN DRUCKFLÄCHE | AE16: EXCEPT AREA PRINTING
A17: 12. | C17: =Q8 -> MO Svitávka | D17: : | E17: =Q10 -> Favorit Brno | G17: ------------ | H17: ----------- | J17: : | M17: : | Q17: Prima Nezamyslice | S17: 4. místo v MČR 2024 | X17: =IF(L17>N17,C17,"") | Y17: =IF(L17<N17,E17,"") | Z17: =IF(L17<N17,C17,"") | AA17: =IF(L17>N17,E17,"") | AC17: Nasazení družstev | AD17: Ansatz Teams | AE17: Setting teams
A18: 13. | C18: =Q7 -> Sokol Zlín-Prštné 2 | D18: : | E18: =Q12 -> Prima Nezamyslice | G18: ------------ | H18: ----------- | J18: : | M18: : | Q18: SC Svitávka | S18: 5. místo v Extralize 2024 | X18: =IF(L18>N18,C18,"") | Y18: =IF(L18<N18,E18,"") | Z18: =IF(L18<N18,C18,"") | AA18: =IF(L18>N18,E18,"") | AC18: Kontrola počtu zápasů | AD18: Kontrolle der Anzahl Kampf | AE18: Control of the number of matchs
A19: 14. | C19: =Q9 -> SC Svitávka | D19: : | E19: =Q11 -> Sokol Šitbořice | G19: ------------ | H19: ----------- | J19: : | M19: : | Q19: Sokol Zlín-Prštné 2 | S19: postupující z I.Ligy 2024 | X19: =IF(L19>N19,C19,"") | Y19: =IF(L19<N19,E19,"") | Z19: =IF(L19<N19,C19,"") | AA19: =IF(L19>N19,E19,"")
A20: 15. | C20: =Q6 -> Sokol Zlín-Prštné 1 | D20: : | E20: =Q10 -> Favorit Brno | G20: ------------ | H20: ----------- | J20: : | M20: : | Q20: Sokol Šitbořice | S20: postupující z I.Ligy 2024 | X20: =IF(L20>N20,C20,"") | Y20: =IF(L20<N20,E20,"") | Z20: =IF(L20<N20,C20,"") | AA20: =IF(L20>N20,E20,"")
A21: 16. | C21: =Q8 -> MO Svitávka | D21: : | E21: =Q12 -> Prima Nezamyslice | G21: ------------ | H21: ----------- | J21: : | M21: : | X21: =IF(L21>N21,C21,"") | Y21: =IF(L21<N21,E21,"") | Z21: =IF(L21<N21,C21,"") | AA21: =IF(L21>N21,E21,"")
A22: 17. | C22: =Q7 -> Sokol Zlín-Prštné 2 | D22: : | E22: =Q11 -> Sokol Šitbořice | G22: ------------ | H22: ----------- | J22: : | M22: : | X22: =IF(L22>N22,C22,"") | Y22: =IF(L22<N22,E22,"") | Z22: =IF(L22<N22,C22,"") | AA22: =IF(L22>N22,E22,"")
A23: 18. | C23: =Q6 -> Sokol Zlín-Prštné 1 | D23: : | E23: =Q9 -> SC Svitávka | G23: ------------ | H23: ----------- | J23: : | M23: : | X23: =IF(L23>N23,C23,"") | Y23: =IF(L23<N23,E23,"") | Z23: =IF(L23<N23,C23,"") | AA23: =IF(L23>N23,E23,"")
A24: 19. | C24: =Q10 -> Favorit Brno | D24: : | E24: =Q12 -> Prima Nezamyslice | G24: ------------ | H24: ----------- | J24: : | M24: : | X24: =IF(L24>N24,C24,"") | Y24: =IF(L24<N24,E24,"") | Z24: =IF(L24<N24,C24,"") | AA24: =IF(L24>N24,E24,"")
A25: 20. | C25: =Q8 -> MO Svitávka | D25: : | E25: =Q11 -> Sokol Šitbořice | G25: ------------ | H25: ----------- | J25: : | M25: : | X25: =IF(L25>N25,C25,"") | Y25: =IF(L25<N25,E25,"") | Z25: =IF(L25<N25,C25,"") | AA25: =IF(L25>N25,E25,"")
A26: 21. | C26: =Q7 -> Sokol Zlín-Prštné 2 | D26: : | E26: =Q9 -> SC Svitávka | G26: ------------ | H26: ----------- | J26: : | M26: : | X26: =IF(L26>N26,C26,"") | Y26: =IF(L26<N26,E26,"") | Z26: =IF(L26<N26,C26,"") | AA26: =IF(L26>N26,E26,"")
F28: =COUNTIF($F$6:$F$26,E28) -> 0 | K28: =F28+F29+F30 -> 0
F29: =COUNTIF($F$6:$F$26,E29) -> 0 | K29: =F28+F31+F32 -> 0
F30: =COUNTIF($F$6:$F$26,E30) -> 0 | K30: =F29+F31+F33 -> 0
F31: =COUNTIF($F$6:$F$26,E31) -> 0 | K31: =F30+F32+F33 -> 0
F32: =COUNTIF($F$6:$F$26,E32) -> 0 | H32: Celkem | K32: =SUM(K28:K31) -> 0
F33: =COUNTIF($F$6:$F$26,E33) -> 0
E34: Celkem | F34: =SUM(F28:F33) -> 0
